BEGIN:VCALENDAR
VERSION:2.0
PRODID:-//浄土宗 香林山 冷智院 無量寺 - ECPv6.3.7//NONSGML v1.0//EN
CALSCALE:GREGORIAN
METHOD:PUBLISH
X-ORIGINAL-URL:https://muryoji.net
X-WR-CALDESC:浄土宗 香林山 冷智院 無量寺 のイベント
REFRESH-INTERVAL;VALUE=DURATION:PT1H
X-Robots-Tag:noindex
X-PUBLISHED-TTL:PT1H
BEGIN:VTIMEZONE
TZID:Asia/Tokyo
BEGIN:STANDARD
TZOFFSETFROM:+0900
TZOFFSETTO:+0900
TZNAME:JST
DTSTART:20200101T000000
END:STANDARD
END:VTIMEZONE
BEGIN:VEVENT
DTSTART;TZID=Asia/Tokyo:20251123T130000
DTEND;TZID=Asia/Tokyo:20251123T153000
DTSTAMP:20260422T013122
CREATED:20251115T061857Z
LAST-MODIFIED:20251123T033703Z
UID:2083-1763902800-1763911800@muryoji.net
SUMMARY:十夜（じゅうや）法要
DESCRIPTION:令和７年11月23日（勤労感謝の日） \n午後1時より　普通回向 \n午後2時より　初十夜特別回向引き続き \n法　話　　布教師　大本山善導寺　執事　大西　文生上人 \n動画配信
URL:https://muryoji.net/event/%e5%8d%81%e5%a4%9c%ef%bc%88%e3%81%98%e3%82%85%e3%81%86%e3%82%84%ef%bc%89%e6%b3%95%e8%a6%81/
CATEGORIES:仏前行事
END:VEVENT
BEGIN:VEVENT
DTSTART;TZID=Asia/Tokyo:20250320T130000
DTEND;TZID=Asia/Tokyo:20250320T150000
DTSTAMP:20260422T013122
CREATED:20250305T053232Z
LAST-MODIFIED:20250305T053339Z
UID:2049-1742475600-1742482800@muryoji.net
SUMMARY:令和７年　春季彼岸法要
DESCRIPTION:令和７年３月２０日（春分の日） \n午後１時より　法要回向 \n午後２時より　法　話　　供養　葬儀 　永代供養　墓じまい \n布教師　住職　堤　俊翁 \nライブ動画配信
URL:https://muryoji.net/event/%e4%bb%a4%e5%92%8c%ef%bc%97%e5%b9%b4%e3%80%80%e6%98%a5%e5%ad%a3%e5%bd%bc%e5%b2%b8%e6%b3%95%e8%a6%81/
CATEGORIES:仏前行事
ATTACH;FMTTYPE=image/jpeg:https://muryoji.net/wp-content/uploads/2025/03/hasunohana2.jpg
END:VEVENT
BEGIN:VEVENT
DTSTART;TZID=Asia/Tokyo:20250125T130000
DTEND;TZID=Asia/Tokyo:20250125T153000
DTSTAMP:20260422T013122
CREATED:20250111T073720Z
LAST-MODIFIED:20250111T073720Z
UID:2035-1737810000-1737819000@muryoji.net
SUMMARY:令和７年度　法然上人御忌法要
DESCRIPTION:令和７年１月25日（土曜日） 法然上人のご命日（御忌）の法要です。 \n午後１時より　法要回向 \n午後２時より　法　　話 \n布教師　池田　顕道　上人　鳥取教区　幸盛寺住職
URL:https://muryoji.net/event/%e4%bb%a4%e5%92%8c%ef%bc%97%e5%b9%b4%e5%ba%a6%e3%80%80%e6%b3%95%e7%84%b6%e4%b8%8a%e4%ba%ba%e5%be%a1%e5%bf%8c%e6%b3%95%e8%a6%81/
CATEGORIES:仏前行事
END:VEVENT
BEGIN:VEVENT
DTSTART;TZID=Asia/Tokyo:20240815T160000
DTEND;TZID=Asia/Tokyo:20240815T170000
DTSTAMP:20260422T013122
CREATED:20240808T045642Z
LAST-MODIFIED:20240808T045642Z
UID:2018-1723737600-1723741200@muryoji.net
SUMMARY:令和6年　盂蘭盆（うらぼん）法要
DESCRIPTION:盂蘭盆法要　8月15日午後4時より \nライブ配信
URL:https://muryoji.net/event/%e4%bb%a4%e5%92%8c6%e5%b9%b4%e3%80%80%e7%9b%82%e8%98%ad%e7%9b%86%ef%bc%88%e3%81%86%e3%82%89%e3%81%bc%e3%82%93%ef%bc%89%e6%b3%95%e8%a6%81/
CATEGORIES:仏前行事
END:VEVENT
BEGIN:VEVENT
DTSTART;TZID=Asia/Tokyo:20240813T170000
DTEND;TZID=Asia/Tokyo:20240813T180000
DTSTAMP:20260422T013122
CREATED:20240808T045217Z
LAST-MODIFIED:20240808T045704Z
UID:2016-1723568400-1723572000@muryoji.net
SUMMARY:令和6年盂蘭盆（うらぼん）法要
DESCRIPTION:令和6年8月13日　午後5時より \nライブ配信
URL:https://muryoji.net/event/%e4%bb%a4%e5%92%8c6%e5%b9%b4%e7%9b%82%e8%98%ad%e7%9b%86%ef%bc%88%e3%81%86%e3%82%89%e3%81%bc%e3%82%93%ef%bc%89%e6%b3%95%e8%a6%81/
CATEGORIES:仏前行事
END:VEVENT
BEGIN:VEVENT
DTSTART;TZID=Asia/Tokyo:20240715T130000
DTEND;TZID=Asia/Tokyo:20240715T153000
DTSTAMP:20260422T013122
CREATED:20240628T004032Z
LAST-MODIFIED:20240628T004139Z
UID:2010-1721048400-1721057400@muryoji.net
SUMMARY:令和6年　大施餓鬼法要
DESCRIPTION:令和６年７月15日 \n午後1時より　法要回向 \n午後2時より　法話　佐賀教区　浄圓寺　藤野　良海　上人 \n動画配信します。　You Tube
URL:https://muryoji.net/event/%e4%bb%a4%e5%92%8c6%e5%b9%b4%e3%80%80%e5%a4%a7%e6%96%bd%e9%a4%93%e9%ac%bc%e6%b3%95%e8%a6%81/
CATEGORIES:仏前行事
END:VEVENT
BEGIN:VEVENT
DTSTART;TZID=Asia/Tokyo:20240320T130000
DTEND;TZID=Asia/Tokyo:20240320T153000
DTSTAMP:20260422T013122
CREATED:20240308T063749Z
LAST-MODIFIED:20240308T063749Z
UID:2002-1710939600-1710948600@muryoji.net
SUMMARY:春季彼岸法要
DESCRIPTION:令和6年3月20日（春分の日）彼岸の中日 \n午後1時より　法要回向 \n午後2時より　法　話　　全照寺　黒瀬　寛雄　上人 \nYou Tube 動画配信
URL:https://muryoji.net/event/%e6%98%a5%e5%ad%a3%e5%bd%bc%e5%b2%b8%e6%b3%95%e8%a6%81-2/
LOCATION:無量寺　1階講堂\, 本町8番地4\, 久留米市\, 福岡県\, 8300044\, 日本
CATEGORIES:仏前行事
END:VEVENT
BEGIN:VEVENT
DTSTART;TZID=Asia/Tokyo:20231123T130000
DTEND;TZID=Asia/Tokyo:20231123T153000
DTSTAMP:20260422T013122
CREATED:20231019T015644Z
LAST-MODIFIED:20231028T063522Z
UID:1957-1700744400-1700753400@muryoji.net
SUMMARY:十夜法要
DESCRIPTION:令和5年11月23日（勤労感謝の日）\n\n午後1時00分より　音楽法要　カーラビンカによる合唱奉納\n　　　　　　　曲目　いのちの理由、宗歌　つきかげ、法然上人讃歌、み仏を迎う\n　　　　　　　指揮　樋口　豊　　ピアノ　長谷川ゆか\n　　　　　　　法要回向（普通回向）\n午後2時00分より　特別諷誦文回向（初めて十夜を迎える霊位の特別回向です。）\n　　　　　　　布教師　　大西　文生　上人による回向です。\n　　　　　　　　　お焼香をしていただきます。\n　　　　　　　引き続き　法話\n\nライブ動画配信
URL:https://muryoji.net/event/%e5%8d%81%e5%a4%9c%e6%b3%95%e8%a6%81-2/
LOCATION:無量寺　1階講堂\, 本町8番地4\, 久留米市\, 福岡県\, 8300044\, 日本
CATEGORIES:仏前行事
END:VEVENT
BEGIN:VEVENT
DTSTART;TZID=Asia/Tokyo:20230923T130000
DTEND;TZID=Asia/Tokyo:20230923T150000
DTSTAMP:20260422T013122
CREATED:20230830T022401Z
LAST-MODIFIED:20230830T023131Z
UID:1945-1695474000-1695481200@muryoji.net
SUMMARY:秋季彼岸法要
DESCRIPTION:令和5年9月23日　午後1時より回向 \n午後2時より法話　布教師　住職　堤　俊翁 \n動画ライブ配信　https://youtube.com/live/ysr3x-5m3A8
URL:https://muryoji.net/event/%e7%a7%8b%e5%ad%a3%e5%bd%bc%e5%b2%b8%e6%b3%95%e8%a6%81-2/
CATEGORIES:仏前行事
END:VEVENT
BEGIN:VEVENT
DTSTART;TZID=Asia/Tokyo:20230813T170000
DTEND;TZID=Asia/Tokyo:20230813T180000
DTSTAMP:20260422T013122
CREATED:20230718T061302Z
LAST-MODIFIED:20230723T072344Z
UID:1927-1691946000-1691949600@muryoji.net
SUMMARY:盂蘭盆法要8月13日午後5時より
DESCRIPTION:8月13日　午後5時より　講堂にて \n8月15日　午後4時より　講堂にて
URL:https://muryoji.net/event/%e7%9b%82%e8%98%ad%e7%9b%86%e6%b3%95%e8%a6%81-2/
CATEGORIES:仏前行事
END:VEVENT
BEGIN:VEVENT
DTSTART;TZID=Asia/Tokyo:20221122T150000
DTEND;TZID=Asia/Tokyo:20221122T163000
DTSTAMP:20260422T013122
CREATED:20221111T045059Z
LAST-MODIFIED:20221111T050551Z
UID:1863-1669129200-1669134600@muryoji.net
SUMMARY:十夜法要前日回向
DESCRIPTION:11月22日午後3寺より \nこの日までにお参りいただいた方の回向を致します。 \n動画を配信します。 \nhttps://youtu.be/DVh80Z-AVQc \n 
URL:https://muryoji.net/event/%e5%8d%81%e5%a4%9c%e6%b3%95%e8%a6%81%e5%89%8d%e6%97%a5%e5%9b%9e%e5%90%91/
CATEGORIES:仏前行事
END:VEVENT
BEGIN:VEVENT
DTSTART;TZID=Asia/Tokyo:20220923T130000
DTEND;TZID=Asia/Tokyo:20220923T153000
DTSTAMP:20260422T013122
CREATED:20220906T021724Z
LAST-MODIFIED:20230131T030321Z
UID:1848-1663938000-1663947000@muryoji.net
SUMMARY:秋季彼岸法要
DESCRIPTION:9月23日（秋分の日）彼岸中日 \n午後1時よりお勤め回向 \n午後2時より講話　　演題「未来を担う人材の育成のために」 \n講師 (一社）総合幼児教育研究会九州支部長 \n荘島幼稚園、弥生が丘マイトリー幼稚園 \n園長　堤　孝雄　師 \n 
URL:https://muryoji.net/event/%e7%a7%8b%e5%ad%a3%e5%bd%bc%e5%b2%b8%e6%b3%95%e8%a6%81/
CATEGORIES:仏前行事
END:VEVENT
BEGIN:VEVENT
DTSTART;TZID=Asia/Tokyo:20220813T170000
DTEND;TZID=Asia/Tokyo:20220813T180000
DTSTAMP:20260422T013122
CREATED:20220730T045247Z
LAST-MODIFIED:20230131T030321Z
UID:1841-1660410000-1660413600@muryoji.net
SUMMARY:8月13日　盂蘭盆法要　
DESCRIPTION:8月13日午後5時より \n無量寺講堂にて盂蘭盆法要を勤めます。 \nライブ配信　https://youtu.be/g4JVIuJmmVM
URL:https://muryoji.net/event/8%e6%9c%8813%e6%97%a5%e3%80%80%e7%9b%82%e8%98%ad%e7%9b%86%e6%b3%95%e8%a6%81%e3%80%80/
CATEGORIES:仏前行事
END:VEVENT
BEGIN:VEVENT
DTSTART;TZID=Asia/Tokyo:20220716T140000
DTEND;TZID=Asia/Tokyo:20220716T163000
DTSTAMP:20260422T013122
CREATED:20220710T021813Z
LAST-MODIFIED:20230131T030321Z
UID:1832-1657980000-1657989000@muryoji.net
SUMMARY:大施餓鬼法要初施餓鬼回向　法話
DESCRIPTION:7月16日　午後2時より　初施餓鬼回向 \n午後3時頃より　法話　「お盆　〜目連さんとお母さん〜」 \n布教師　藤野　良海　師 \n動画　　https://youtu.be/-mNUVAMuKa0 \n 
URL:https://muryoji.net/event/%e5%a4%a7%e6%96%bd%e9%a4%93%e9%ac%bc%e6%b3%95%e8%a6%81%e5%88%9d%e6%96%bd%e9%a4%93%e9%ac%bc%e5%9b%9e%e5%90%91%e3%80%80%e6%b3%95%e8%a9%b1/
CATEGORIES:仏前行事
END:VEVENT
BEGIN:VEVENT
DTSTART;TZID=Asia/Tokyo:20220321T130000
DTEND;TZID=Asia/Tokyo:20220321T153000
DTSTAMP:20260422T013122
CREATED:20220302T060531Z
LAST-MODIFIED:20230131T030322Z
UID:1807-1647867600-1647876600@muryoji.net
SUMMARY:令和4年春季彼岸法要
DESCRIPTION:令和4年3月21日（春分の日） \n午後1時より法要回向　　配信　https://youtu.be/Zksa8Z8wOtY \n午後2時より特別講演会　配信　https://youtu.be/LtqAPklzhuA \n特別講演会　「あなたの家(おうち)はどうなるの？」 \n講　師：司法書士 藤島 多賢 氏 \nテーマは仏事を行なう際に何かと付きまとう、相続に関することです。「相続登記の義務化(相続登記を３年以内にしないと過料が科せられる法律！)」や「土地の国庫帰属制度(ある一定の条件で土地を国に引き取ってもらえる)」など。 \nまた、遺言(先祖供養に関すること)、墳墓等祭祀相続、身寄りのない人の成年後見、等・・・についても、法律の専門家から分かり易く説明していただけます。
URL:https://muryoji.net/event/%e4%bb%a4%e5%92%8c4%e5%b9%b4%e6%98%a5%e5%ad%a3%e5%bd%bc%e5%b2%b8%e6%b3%95%e8%a6%81/
LOCATION:無量寺　1階講堂\, 本町8番地4\, 久留米市\, 福岡県\, 8300044\, 日本
CATEGORIES:仏前行事
END:VEVENT
BEGIN:VEVENT
DTSTART;TZID=Asia/Tokyo:20220123T130000
DTEND;TZID=Asia/Tokyo:20220123T150000
DTSTAMP:20260422T013122
CREATED:20220106T062744Z
LAST-MODIFIED:20230131T030322Z
UID:1794-1642942800-1642950000@muryoji.net
SUMMARY:法然上人御忌法要　回向、法話
DESCRIPTION:令和4年1月23日（日）午後1時より法要回向 \n午後2時より法話　小倉全照寺住職　黒瀬　寛雄師 \nライブ配信します。下記リンクをクリックして下さい。 \nhttps://youtu.be/eR6zPizC3PM \n 
URL:https://muryoji.net/event/%e6%b3%95%e7%84%b6%e4%b8%8a%e4%ba%ba%e5%be%a1%e5%bf%8c%e6%b3%95%e8%a6%81%e3%80%801%e6%9c%8823%e6%97%a5%e5%9b%9e%e5%90%91%e3%80%81%e6%b3%95%e8%a9%b1/
CATEGORIES:仏前行事
END:VEVENT
BEGIN:VEVENT
DTSTART;TZID=Asia/Tokyo:20211123T140000
DTEND;TZID=Asia/Tokyo:20211123T153000
DTSTAMP:20260422T013122
CREATED:20211108T053607Z
LAST-MODIFIED:20230131T030322Z
UID:1791-1637676000-1637681400@muryoji.net
SUMMARY:初十夜回向、法話
DESCRIPTION:午後2時より初十夜回向引き続き　法話　大西　文生師 \nhttps://youtu.be/yK2tIUIDc64
URL:https://muryoji.net/event/%e5%88%9d%e5%8d%81%e5%a4%9c%e5%9b%9e%e5%90%91%e3%80%81%e6%b3%95%e8%a9%b1/
CATEGORIES:仏前行事
END:VEVENT
BEGIN:VEVENT
DTSTART;TZID=Asia/Tokyo:20211123T110000
DTEND;TZID=Asia/Tokyo:20211123T120000
DTSTAMP:20260422T013122
CREATED:20211108T052133Z
LAST-MODIFIED:20230131T030322Z
UID:1782-1637665200-1637668800@muryoji.net
SUMMARY:十夜法要　普通回向
DESCRIPTION:11月23日午前11時より普通回向YouTubeでライブ配信します。 \nhttps://youtu.be/Q09YLQgGWL4 \n  \n  \n  \n 
URL:https://muryoji.net/event/%e5%8d%81%e5%a4%9c%e6%b3%95%e8%a6%81/
CATEGORIES:仏前行事
END:VEVENT
BEGIN:VEVENT
DTSTART;TZID=Asia/Tokyo:20210923T130000
DTEND;TZID=Asia/Tokyo:20210923T150000
DTSTAMP:20260422T013122
CREATED:20210903T051919Z
LAST-MODIFIED:20230131T030322Z
UID:1765-1632402000-1632409200@muryoji.net
SUMMARY:秋季彼岸法要　9月23日中日
DESCRIPTION:法要を動画配信します。　午後1時より法要回向　午後2時より住職　講　話
URL:https://muryoji.net/event/%e7%a7%8b%e5%ad%a3%e5%bd%bc%e5%b2%b8%e6%b3%95%e8%a6%81%e3%80%809%e6%9c%8823%e6%97%a5%e4%b8%ad%e6%97%a5/
CATEGORIES:仏前行事
ATTACH;FMTTYPE=image/jpeg:https://muryoji.net/wp-content/uploads/2018/06/okyoIMGP1013.jpg
ORGANIZER;CN="%E7%84%A1%E9%87%8F%E5%AF%BA":MAILTO:info@muryoji.net
END:VEVENT
BEGIN:VEVENT
DTSTART;TZID=Asia/Tokyo:20210815T170000
DTEND;TZID=Asia/Tokyo:20210815T180000
DTSTAMP:20260422T013122
CREATED:20210723T022529Z
LAST-MODIFIED:20230131T030322Z
UID:1757-1629046800-1629050400@muryoji.net
SUMMARY:盂蘭盆法要　8月15日
DESCRIPTION:8月15日午後5時より　ライブ配信をします。 \nhttps://youtu.be/hNH8e2gsgWI
URL:https://muryoji.net/event/%e7%9b%82%e8%98%ad%e7%9b%86%e6%b3%95%e8%a6%81%e3%80%808%e6%9c%8815%e6%97%a5/
CATEGORIES:仏前行事
END:VEVENT
BEGIN:VEVENT
DTSTART;TZID=Asia/Tokyo:20210813T170000
DTEND;TZID=Asia/Tokyo:20210813T180000
DTSTAMP:20260422T013122
CREATED:20210722T080516Z
LAST-MODIFIED:20230131T030322Z
UID:1750-1628874000-1628877600@muryoji.net
SUMMARY:盂蘭盆法要　8月13日
DESCRIPTION:　盂蘭盆法要ライブ配信　8月13日午後5時より \nhttps://youtu.be/tfVs5h6D_D8
URL:https://muryoji.net/event/%e7%9b%82%e8%98%ad%e7%9b%86%e6%b3%95%e8%a6%818%e6%9c%8813%e6%97%a5/
LOCATION:無量寺　1階講堂\, 本町8番地4\, 久留米市\, 福岡県\, 8300044\, 日本
CATEGORIES:仏前行事
END:VEVENT
BEGIN:VEVENT
DTSTART;TZID=Asia/Tokyo:20210718T110000
DTEND;TZID=Asia/Tokyo:20210718T163000
DTSTAMP:20260422T013122
CREATED:20210621T015135Z
LAST-MODIFIED:20230131T030322Z
UID:1736-1626606000-1626625800@muryoji.net
SUMMARY:大施餓鬼法要
DESCRIPTION:午前11時より普通回向 \n午後2時より特別回向（今年初盆を迎える霊位の回向） \n午後3時より法　話　神埼市　浄円寺　藤野　良海　師 \n  \n午前の部 \nYou Tubeにてライブ配信します \n  \n午後の部 \nYouTubeにてライブ配信します
URL:https://muryoji.net/event/%e5%a4%a7%e6%96%bd%e9%a4%93%e9%ac%bc%e6%b3%95%e8%a6%81-3/
LOCATION:無量寺　1階講堂\, 本町8番地4\, 久留米市\, 福岡県\, 8300044\, 日本
CATEGORIES:仏前行事
ATTACH;FMTTYPE=image/jpeg:https://muryoji.net/wp-content/uploads/2021/06/IMGP3017.jpeg
END:VEVENT
BEGIN:VEVENT
DTSTART;TZID=Asia/Tokyo:20210516T110000
DTEND;TZID=Asia/Tokyo:20210516T150000
DTSTAMP:20260422T013122
CREATED:20210429T041250Z
LAST-MODIFIED:20210516T015943Z
UID:1709-1621162800-1621177200@muryoji.net
SUMMARY:法然上人年番御忌法要　絵伝御開帳
DESCRIPTION:浄土宗久留米門中年番御忌法要 \n動画配信　https://youtu.be/GaUXE38fXnY \n午前11時より　法話　安永　宏史　上人　生往寺住職 \n12時より　　法然上人絵伝 オンライン御開帳 \n13時より　　法要回向　久留米門中寺院　出仕 \n14時より　　法話　安永　宏史　上人 \n  \n 
URL:https://muryoji.net/event/%e6%b3%95%e7%84%b6%e4%b8%8a%e4%ba%ba%e5%b9%b4%e7%95%aa%e5%be%a1%e5%bf%8c%e6%b3%95%e8%a6%81/
CATEGORIES:仏前行事
END:VEVENT
BEGIN:VEVENT
DTSTART;TZID=Asia/Tokyo:20210320T130000
DTEND;TZID=Asia/Tokyo:20210320T150000
DTSTAMP:20260422T013122
CREATED:20210307T071045Z
LAST-MODIFIED:20210307T072143Z
UID:1700-1616245200-1616252400@muryoji.net
SUMMARY:令和3年春季彼岸法要、法話の動画
DESCRIPTION:3月20日　午後1時より　当日参詣の方の回向を致します。 \n午後2時より　法話　布教師　山口教区　圓壽寺　住職　新山　陽右上人 \nライブ配信します。
URL:https://muryoji.net/event/%e4%bb%a4%e5%92%8c3%e5%b9%b4%e3%80%80%e6%98%a5%e5%ad%a3%e5%bd%bc%e5%b2%b8%e6%b3%95%e8%a6%81%e3%80%81%e6%b3%95%e8%a9%b1/
CATEGORIES:仏前行事
END:VEVENT
BEGIN:VEVENT
DTSTART;TZID=Asia/Tokyo:20210319T150000
DTEND;TZID=Asia/Tokyo:20210319T160000
DTSTAMP:20260422T013122
CREATED:20210307T070520Z
LAST-MODIFIED:20210315T073858Z
UID:1698-1616166000-1616169600@muryoji.net
SUMMARY:令和3年春季彼岸法要回向動画　3月19日まで参詣者分
DESCRIPTION:春のお彼岸法要の回向を動画で配信します。 \n3月19日午後3時より　　この日までに参詣された方の回向を致します。
URL:https://muryoji.net/event/%e4%bb%a4%e5%92%8c3%e5%b9%b4%e6%98%a5%e5%ad%a3%e5%bd%bc%e5%b2%b8%e6%b3%95%e8%a6%81%e5%9b%9e%e5%90%91%e5%8b%95%e7%94%bb%e3%80%803%e6%9c%8819%e6%97%a5%e3%81%be%e3%81%a7/
CATEGORIES:仏前行事
END:VEVENT
BEGIN:VEVENT
DTSTART;TZID=Asia/Tokyo:20210124T130000
DTEND;TZID=Asia/Tokyo:20210124T150000
DTSTAMP:20260422T013122
CREATED:20210114T020407Z
LAST-MODIFIED:20210119T060943Z
UID:1667-1611493200-1611500400@muryoji.net
SUMMARY:法然上人御忌法要と法話
DESCRIPTION:1月25日は浄土宗宗祖　法然上人のご命日です。1月24日（日）に厳修します。 \n当日1月24日参詣されるお檀家さんのご先祖さまのご回向をいたします。 \n回向に引き続き、佐賀市　浄國寺　住職　上田光俊　上人による法話を行います。 \nライブ配信します。　https://youtu.be/_mI_7VRlbt4 \n 
URL:https://muryoji.net/event/%e6%b3%95%e7%84%b6%e4%b8%8a%e4%ba%ba%e5%be%a1%e5%bf%8c%e6%b3%95%e8%a6%81-2/
CATEGORIES:仏前行事
END:VEVENT
BEGIN:VEVENT
DTSTART;TZID=Asia/Tokyo:20210123T150000
DTEND;TZID=Asia/Tokyo:20210123T160000
DTSTAMP:20260422T013122
CREATED:20210117T065628Z
LAST-MODIFIED:20210119T061048Z
UID:1673-1611414000-1611417600@muryoji.net
SUMMARY:御忌法要回向1月23日
DESCRIPTION:宗祖法然上人御忌法要に際し、1月23日までに御参詣された各家のご先祖様の回向をいたします。 \nコロナウイルス感染拡大に伴い、法要時間を短縮するため寺の方で住職と副住職で執り行います。 \nライブ配信いたします。    https://youtu.be/1FHXRY7WShY
URL:https://muryoji.net/event/%e5%be%a1%e5%bf%8c%e6%b3%95%e8%a6%81%e5%9b%9e%e5%90%911%e6%9c%8823%e6%97%a5/
CATEGORIES:仏前行事
END:VEVENT
BEGIN:VEVENT
DTSTART;TZID=Asia/Tokyo:20201123T140000
DTEND;TZID=Asia/Tokyo:20201123T153000
DTSTAMP:20260422T013122
CREATED:20201023T022851Z
LAST-MODIFIED:20201026T015144Z
UID:1638-1606140000-1606145400@muryoji.net
SUMMARY:初十夜回向と法話
DESCRIPTION:今年初めて十夜を迎えられる霊位のご回向です。 \n引き続き法話をして頂きます。 \n大本山善導寺布教師会　会長　早田　空善上人 \n動画配信します。　https://youtu.be/SCgClb34tWA
URL:https://muryoji.net/event/%e5%88%9d%e5%8d%81%e5%a4%9c%e5%9b%9e%e5%90%91%e3%81%a8%e6%b3%95%e8%a9%b1/
CATEGORIES:仏前行事
END:VEVENT
BEGIN:VEVENT
DTSTART;TZID=Asia/Tokyo:20201123T110000
DTEND;TZID=Asia/Tokyo:20201123T110000
DTSTAMP:20260422T013122
CREATED:20201022T062130Z
LAST-MODIFIED:20201102T020621Z
UID:1634-1606129200-1606129200@muryoji.net
SUMMARY:十夜法要　午前の部
DESCRIPTION:全国の浄土宗のお寺で広く行われる法要です。実りの秋にお念仏の実りを頂けるいい機会です。 \nたくさんの方に参詣して頂きたいのですが、コロナウイルスの感染防止のため本堂の座席を制限して行こないます。 \n当日ユーチューブにてライブ配信します。 \nhttps://youtu.be/CF0g728qGnk
URL:https://muryoji.net/event/%e5%8d%81%e5%a4%9c%e6%b3%95%e8%a6%81%e3%80%80%e5%8d%88%e5%89%8d%e3%81%ae%e9%83%a8/
CATEGORIES:仏前行事
END:VEVENT
BEGIN:VEVENT
DTSTART;TZID=Asia/Tokyo:20200922T150000
DTEND;TZID=Asia/Tokyo:20200922T160000
DTSTAMP:20260422T013122
CREATED:20200902T065010Z
LAST-MODIFIED:20200922T011233Z
UID:1587-1600786800-1600790400@muryoji.net
SUMMARY:秋の彼岸法要　午後の部
DESCRIPTION:法要をYouTubeでライブ配信します。 \n上のリンクをクリックしてください。
URL:https://muryoji.net/event/%e7%a7%8b%e3%81%ae%e5%bd%bc%e5%b2%b8%e6%b3%95%e8%a6%81%e3%80%80%e5%8d%88%e5%be%8c%e3%81%ae%e9%83%a8/
CATEGORIES:仏前行事
END:VEVENT
END:VCALENDAR