BEGIN:VCALENDAR
VERSION:2.0
PRODID:-//浄土宗 香林山 冷智院 無量寺 - ECPv6.3.7//NONSGML v1.0//EN
CALSCALE:GREGORIAN
METHOD:PUBLISH
X-WR-CALNAME:浄土宗 香林山 冷智院 無量寺
X-ORIGINAL-URL:https://muryoji.net
X-WR-CALDESC:浄土宗 香林山 冷智院 無量寺 のイベント
REFRESH-INTERVAL;VALUE=DURATION:PT1H
X-Robots-Tag:noindex
X-PUBLISHED-TTL:PT1H
BEGIN:VTIMEZONE
TZID:Asia/Tokyo
BEGIN:STANDARD
TZOFFSETFROM:+0900
TZOFFSETTO:+0900
TZNAME:JST
DTSTART:20180101T000000
END:STANDARD
END:VTIMEZONE
BEGIN:VEVENT
DTSTART;TZID=Asia/Tokyo:20210813T170000
DTEND;TZID=Asia/Tokyo:20210813T180000
DTSTAMP:20260422T032524
CREATED:20210722T080516Z
LAST-MODIFIED:20230131T030322Z
UID:1750-1628874000-1628877600@muryoji.net
SUMMARY:盂蘭盆法要　8月13日
DESCRIPTION:　盂蘭盆法要ライブ配信　8月13日午後5時より \nhttps://youtu.be/tfVs5h6D_D8
URL:https://muryoji.net/event/%e7%9b%82%e8%98%ad%e7%9b%86%e6%b3%95%e8%a6%818%e6%9c%8813%e6%97%a5/
LOCATION:無量寺　1階講堂\, 本町8番地4\, 久留米市\, 福岡県\, 8300044\, 日本
CATEGORIES:仏前行事
END:VEVENT
BEGIN:VEVENT
DTSTART;TZID=Asia/Tokyo:20210718T110000
DTEND;TZID=Asia/Tokyo:20210718T163000
DTSTAMP:20260422T032524
CREATED:20210621T015135Z
LAST-MODIFIED:20230131T030322Z
UID:1736-1626606000-1626625800@muryoji.net
SUMMARY:大施餓鬼法要
DESCRIPTION:午前11時より普通回向 \n午後2時より特別回向（今年初盆を迎える霊位の回向） \n午後3時より法　話　神埼市　浄円寺　藤野　良海　師 \n  \n午前の部 \nYou Tubeにてライブ配信します \n  \n午後の部 \nYouTubeにてライブ配信します
URL:https://muryoji.net/event/%e5%a4%a7%e6%96%bd%e9%a4%93%e9%ac%bc%e6%b3%95%e8%a6%81-3/
LOCATION:無量寺　1階講堂\, 本町8番地4\, 久留米市\, 福岡県\, 8300044\, 日本
CATEGORIES:仏前行事
ATTACH;FMTTYPE=image/jpeg:https://muryoji.net/wp-content/uploads/2021/06/IMGP3017.jpeg
END:VEVENT
BEGIN:VEVENT
DTSTART;TZID=Asia/Tokyo:20210516T110000
DTEND;TZID=Asia/Tokyo:20210516T150000
DTSTAMP:20260422T032524
CREATED:20210429T041250Z
LAST-MODIFIED:20210516T015943Z
UID:1709-1621162800-1621177200@muryoji.net
SUMMARY:法然上人年番御忌法要　絵伝御開帳
DESCRIPTION:浄土宗久留米門中年番御忌法要 \n動画配信　https://youtu.be/GaUXE38fXnY \n午前11時より　法話　安永　宏史　上人　生往寺住職 \n12時より　　法然上人絵伝 オンライン御開帳 \n13時より　　法要回向　久留米門中寺院　出仕 \n14時より　　法話　安永　宏史　上人 \n  \n 
URL:https://muryoji.net/event/%e6%b3%95%e7%84%b6%e4%b8%8a%e4%ba%ba%e5%b9%b4%e7%95%aa%e5%be%a1%e5%bf%8c%e6%b3%95%e8%a6%81/
CATEGORIES:仏前行事
END:VEVENT
BEGIN:VEVENT
DTSTART;TZID=Asia/Tokyo:20210320T130000
DTEND;TZID=Asia/Tokyo:20210320T150000
DTSTAMP:20260422T032524
CREATED:20210307T071045Z
LAST-MODIFIED:20210307T072143Z
UID:1700-1616245200-1616252400@muryoji.net
SUMMARY:令和3年春季彼岸法要、法話の動画
DESCRIPTION:3月20日　午後1時より　当日参詣の方の回向を致します。 \n午後2時より　法話　布教師　山口教区　圓壽寺　住職　新山　陽右上人 \nライブ配信します。
URL:https://muryoji.net/event/%e4%bb%a4%e5%92%8c3%e5%b9%b4%e3%80%80%e6%98%a5%e5%ad%a3%e5%bd%bc%e5%b2%b8%e6%b3%95%e8%a6%81%e3%80%81%e6%b3%95%e8%a9%b1/
CATEGORIES:仏前行事
END:VEVENT
BEGIN:VEVENT
DTSTART;TZID=Asia/Tokyo:20210319T150000
DTEND;TZID=Asia/Tokyo:20210319T160000
DTSTAMP:20260422T032524
CREATED:20210307T070520Z
LAST-MODIFIED:20210315T073858Z
UID:1698-1616166000-1616169600@muryoji.net
SUMMARY:令和3年春季彼岸法要回向動画　3月19日まで参詣者分
DESCRIPTION:春のお彼岸法要の回向を動画で配信します。 \n3月19日午後3時より　　この日までに参詣された方の回向を致します。
URL:https://muryoji.net/event/%e4%bb%a4%e5%92%8c3%e5%b9%b4%e6%98%a5%e5%ad%a3%e5%bd%bc%e5%b2%b8%e6%b3%95%e8%a6%81%e5%9b%9e%e5%90%91%e5%8b%95%e7%94%bb%e3%80%803%e6%9c%8819%e6%97%a5%e3%81%be%e3%81%a7/
CATEGORIES:仏前行事
END:VEVENT
BEGIN:VEVENT
DTSTART;TZID=Asia/Tokyo:20210124T130000
DTEND;TZID=Asia/Tokyo:20210124T150000
DTSTAMP:20260422T032524
CREATED:20210114T020407Z
LAST-MODIFIED:20210119T060943Z
UID:1667-1611493200-1611500400@muryoji.net
SUMMARY:法然上人御忌法要と法話
DESCRIPTION:1月25日は浄土宗宗祖　法然上人のご命日です。1月24日（日）に厳修します。 \n当日1月24日参詣されるお檀家さんのご先祖さまのご回向をいたします。 \n回向に引き続き、佐賀市　浄國寺　住職　上田光俊　上人による法話を行います。 \nライブ配信します。　https://youtu.be/_mI_7VRlbt4 \n 
URL:https://muryoji.net/event/%e6%b3%95%e7%84%b6%e4%b8%8a%e4%ba%ba%e5%be%a1%e5%bf%8c%e6%b3%95%e8%a6%81-2/
CATEGORIES:仏前行事
END:VEVENT
BEGIN:VEVENT
DTSTART;TZID=Asia/Tokyo:20210123T150000
DTEND;TZID=Asia/Tokyo:20210123T160000
DTSTAMP:20260422T032524
CREATED:20210117T065628Z
LAST-MODIFIED:20210119T061048Z
UID:1673-1611414000-1611417600@muryoji.net
SUMMARY:御忌法要回向1月23日
DESCRIPTION:宗祖法然上人御忌法要に際し、1月23日までに御参詣された各家のご先祖様の回向をいたします。 \nコロナウイルス感染拡大に伴い、法要時間を短縮するため寺の方で住職と副住職で執り行います。 \nライブ配信いたします。    https://youtu.be/1FHXRY7WShY
URL:https://muryoji.net/event/%e5%be%a1%e5%bf%8c%e6%b3%95%e8%a6%81%e5%9b%9e%e5%90%911%e6%9c%8823%e6%97%a5/
CATEGORIES:仏前行事
END:VEVENT
BEGIN:VEVENT
DTSTART;TZID=Asia/Tokyo:20201123T140000
DTEND;TZID=Asia/Tokyo:20201123T153000
DTSTAMP:20260422T032524
CREATED:20201023T022851Z
LAST-MODIFIED:20201026T015144Z
UID:1638-1606140000-1606145400@muryoji.net
SUMMARY:初十夜回向と法話
DESCRIPTION:今年初めて十夜を迎えられる霊位のご回向です。 \n引き続き法話をして頂きます。 \n大本山善導寺布教師会　会長　早田　空善上人 \n動画配信します。　https://youtu.be/SCgClb34tWA
URL:https://muryoji.net/event/%e5%88%9d%e5%8d%81%e5%a4%9c%e5%9b%9e%e5%90%91%e3%81%a8%e6%b3%95%e8%a9%b1/
CATEGORIES:仏前行事
END:VEVENT
BEGIN:VEVENT
DTSTART;TZID=Asia/Tokyo:20201123T110000
DTEND;TZID=Asia/Tokyo:20201123T110000
DTSTAMP:20260422T032524
CREATED:20201022T062130Z
LAST-MODIFIED:20201102T020621Z
UID:1634-1606129200-1606129200@muryoji.net
SUMMARY:十夜法要　午前の部
DESCRIPTION:全国の浄土宗のお寺で広く行われる法要です。実りの秋にお念仏の実りを頂けるいい機会です。 \nたくさんの方に参詣して頂きたいのですが、コロナウイルスの感染防止のため本堂の座席を制限して行こないます。 \n当日ユーチューブにてライブ配信します。 \nhttps://youtu.be/CF0g728qGnk
URL:https://muryoji.net/event/%e5%8d%81%e5%a4%9c%e6%b3%95%e8%a6%81%e3%80%80%e5%8d%88%e5%89%8d%e3%81%ae%e9%83%a8/
CATEGORIES:仏前行事
END:VEVENT
BEGIN:VEVENT
DTSTART;TZID=Asia/Tokyo:20200922T150000
DTEND;TZID=Asia/Tokyo:20200922T160000
DTSTAMP:20260422T032524
CREATED:20200902T065010Z
LAST-MODIFIED:20200922T011233Z
UID:1587-1600786800-1600790400@muryoji.net
SUMMARY:秋の彼岸法要　午後の部
DESCRIPTION:法要をYouTubeでライブ配信します。 \n上のリンクをクリックしてください。
URL:https://muryoji.net/event/%e7%a7%8b%e3%81%ae%e5%bd%bc%e5%b2%b8%e6%b3%95%e8%a6%81%e3%80%80%e5%8d%88%e5%be%8c%e3%81%ae%e9%83%a8/
CATEGORIES:仏前行事
END:VEVENT
BEGIN:VEVENT
DTSTART;TZID=Asia/Tokyo:20200922T140000
DTEND;TZID=Asia/Tokyo:20200922T150000
DTSTAMP:20260422T032524
CREATED:20200902T064853Z
LAST-MODIFIED:20200922T011607Z
UID:1585-1600783200-1600786800@muryoji.net
SUMMARY:秋の彼岸法要　法話
DESCRIPTION:布教師　今村　義臣　上人　「あ～、いい気分」 \nYouTubeでライブ配信します。 \n上のリンクをクリックして下さい。
URL:https://muryoji.net/event/%e5%bd%bc%e5%b2%b8%e6%b3%95%e8%a6%81%e3%80%80%e6%b3%95%e8%a9%b1/
CATEGORIES:仏前行事
END:VEVENT
BEGIN:VEVENT
DTSTART;TZID=Asia/Tokyo:20200922T110000
DTEND;TZID=Asia/Tokyo:20200922T120000
DTSTAMP:20260422T032524
CREATED:20200902T064319Z
LAST-MODIFIED:20200922T010726Z
UID:1578-1600772400-1600776000@muryoji.net
SUMMARY:秋の彼岸法要　午前の部
DESCRIPTION:コロナウイルス感染防止のため、密にならないようお彼岸の中日の法要を2回行います。 \n下のリンクをクリックして下さい。 \nYouTubeでライブ配信します。 \n 
URL:https://muryoji.net/event/%e7%a7%8b%e3%81%ae%e5%bd%bc%e5%b2%b8%e6%b3%95%e8%a6%81%e3%80%80%e5%8d%88%e5%89%8d%e3%81%ae%e9%83%a8/
CATEGORIES:仏前行事
END:VEVENT
BEGIN:VEVENT
DTSTART;TZID=Asia/Tokyo:20191123T130000
DTEND;TZID=Asia/Tokyo:20191123T153000
DTSTAMP:20260422T032524
CREATED:20180713T064117Z
LAST-MODIFIED:20191016T073107Z
UID:1317-1574514000-1574523000@muryoji.net
SUMMARY:十夜法要(勤労感謝の日)
DESCRIPTION:浄土宗のお寺で秋を過ぎる頃から行われています。 \n戦国時代であった当時、戦乱の世を治める願いを伝える為に当時の天皇の許しを得てその当時貴族だけの法要だった十夜法要を民間法要として執り行うようになりました｡ \nそれからおよそ５００年全国の浄土宗 のお寺で行われるようになりました。
URL:https://muryoji.net/event/%e5%8d%81%e5%a4%9c%e6%b3%95%e8%a6%81%e5%8b%a4%e5%8a%b4%e6%84%9f%e8%ac%9d%e3%81%ae%e6%97%a5/
LOCATION:無量寺　1階講堂\, 本町8番地4\, 久留米市\, 福岡県\, 8300044\, 日本
CATEGORIES:仏前行事
END:VEVENT
BEGIN:VEVENT
DTSTART;TZID=Asia/Tokyo:20191123T130000
DTEND;TZID=Asia/Tokyo:20191123T140000
DTSTAMP:20260422T032524
CREATED:20191016T074015Z
LAST-MODIFIED:20191016T074358Z
UID:1422-1574514000-1574517600@muryoji.net
SUMMARY:音楽法要
DESCRIPTION:11月23日の十夜法要で音楽法要を奉納します。
URL:https://muryoji.net/event/%e9%9f%b3%e6%a5%bd%e6%b3%95%e8%a6%81/
CATEGORIES:仏前行事
END:VEVENT
BEGIN:VEVENT
DTSTART;TZID=Asia/Tokyo:20190923T170000
DTEND;TZID=Asia/Tokyo:20190923T170000
DTSTAMP:20260422T032524
CREATED:20180713T063933Z
LAST-MODIFIED:20230131T030015Z
UID:1315-1569258000-1569258000@muryoji.net
SUMMARY:秋彼岸法要
DESCRIPTION:彼岸の日には今日ある自分を育んでくれた数多くの祖先の追善供養など仏事につとめ、皆で心から先祖のご恩に感謝いたしましょう。
URL:https://muryoji.net/event/%e7%a7%8b%e5%bd%bc%e5%b2%b8%e6%b3%95%e8%a6%81/
LOCATION:無量寺　1階講堂\, 本町8番地4\, 久留米市\, 福岡県\, 8300044\, 日本
CATEGORIES:仏前行事
END:VEVENT
BEGIN:VEVENT
DTSTART;TZID=Asia/Tokyo:20190815T170000
DTEND;TZID=Asia/Tokyo:20190815T170000
DTSTAMP:20260422T032524
CREATED:20180804T032959Z
LAST-MODIFIED:20230131T030021Z
UID:1379-1565888400-1565888400@muryoji.net
SUMMARY:盂蘭盆法要13日と15日
DESCRIPTION:祖先の霊を我が家に迎え、冥福を祈ります｡ \n8月13日と１５日１７：００から行われます。
URL:https://muryoji.net/event/%e7%9b%82%e8%98%ad%e7%9b%86%e6%b3%95%e8%a6%8113%e6%97%a5%e3%81%a815%e6%97%a5-3/
CATEGORIES:仏前行事
END:VEVENT
BEGIN:VEVENT
DTSTART;TZID=Asia/Tokyo:20190813T170000
DTEND;TZID=Asia/Tokyo:20190813T170000
DTSTAMP:20260422T032524
CREATED:20180713T063240Z
LAST-MODIFIED:20230131T030027Z
UID:1311-1565715600-1565715600@muryoji.net
SUMMARY:盂蘭盆法要13日と15日
DESCRIPTION:祖先の霊を我が家に迎え、冥福を祈ります｡ \n8月13日と１５日１７：００から行われます。
URL:https://muryoji.net/event/%e7%9b%82%e8%98%ad%e7%9b%86%e6%b3%95%e8%a6%81/
LOCATION:無量寺　1階講堂\, 本町8番地4\, 久留米市\, 福岡県\, 8300044\, 日本
CATEGORIES:仏前行事
END:VEVENT
BEGIN:VEVENT
DTSTART;VALUE=DATE:20190715
DTEND;VALUE=DATE:20190716
DTSTAMP:20260422T032524
CREATED:20180713T063001Z
LAST-MODIFIED:20230131T030038Z
UID:1309-1563148800-1563235199@muryoji.net
SUMMARY:大施餓鬼法要
DESCRIPTION:餓鬼道に落ちた餓鬼なども含め三世十方法界の全ての精霊もご供養する日です｡
URL:https://muryoji.net/event/%e5%a4%a7%e6%96%bd%e9%a4%93%e9%ac%bc%e6%b3%95%e8%a6%81/
LOCATION:無量寺　1階講堂\, 本町8番地4\, 久留米市\, 福岡県\, 8300044\, 日本
CATEGORIES:仏前行事
END:VEVENT
BEGIN:VEVENT
DTSTART;VALUE=DATE:20190603
DTEND;VALUE=DATE:20190608
DTSTAMP:20260422T032524
CREATED:20180713T062838Z
LAST-MODIFIED:20230131T020801Z
UID:1306-1559520000-1559951999@muryoji.net
SUMMARY:五重相伝
DESCRIPTION:在家の信者さんに伝授されるものです｡\n５日間、無量寺に通い「行」を行うことによって初重から第５重まで、５つにわけて伝授されていきます｡\n「往生記」「末代念仏授手印」「領解末代念仏授手印鈔」「決答授手印疑問鈔」「往生論註」をとかれていき最終日に「正伝法」「授戒」が行われます。\n数日で法然上人の教えに基づいた教えを戒法として授かります
URL:https://muryoji.net/event/%e4%ba%94%e9%87%8d%e7%9b%b8%e4%bc%9d/
LOCATION:無量寺　1階講堂\, 本町8番地4\, 久留米市\, 福岡県\, 8300044\, 日本
CATEGORIES:仏前行事
END:VEVENT
BEGIN:VEVENT
DTSTART;VALUE=DATE:20190321
DTEND;VALUE=DATE:20190322
DTSTAMP:20260422T032524
CREATED:20180713T062250Z
LAST-MODIFIED:20230131T030045Z
UID:1301-1553126400-1553212799@muryoji.net
SUMMARY:春彼岸法要(春分の日)
DESCRIPTION:季節が春になろうとする日に春を感じながらお参りしましょう｡ \n法話、墓参りをして、あらためて真理に基づく考え方や生き方をかみしめる日です｡
URL:https://muryoji.net/event/%e6%98%a5%e5%bd%bc%e5%b2%b8%e6%b3%95%e8%a6%81%e6%98%a5%e5%88%86%e3%81%ae%e6%97%a5/
LOCATION:無量寺　1階講堂\, 本町8番地4\, 久留米市\, 福岡県\, 8300044\, 日本
CATEGORIES:仏前行事
END:VEVENT
BEGIN:VEVENT
DTSTART;VALUE=DATE:20190127
DTEND;VALUE=DATE:20190128
DTSTAMP:20260422T032524
CREATED:20180713T061951Z
LAST-MODIFIED:20230131T015034Z
UID:1299-1548547200-1548633599@muryoji.net
SUMMARY:御忌法要(法然上人の命日)
DESCRIPTION:御忌 １月２５日 法然上人は１２１２年１月２５日にお亡くなりになられました｡ \n日本中の浄土宗のお寺で御忌会が行われます｡無量 寺でも行われますのでお近くの方はおこしください｡\n御忌は本来天皇や皇后の忌日法会の敬称でしたが１５２３年に後柏原天皇が総本山知恩院第２５世超誉存牛上人に「知恩院は浄土宗の根本道場であり、宗祖入滅の霊跡であるから、毎年七日間、ここで御忌をつとめよ」と｢大永の御忌鳳詔」を出されたことによ り法然上人の法要を「御忌」といわれるようになりました｡
URL:https://muryoji.net/event/%e5%be%a1%e5%bf%8c%e6%b3%95%e8%a6%81%e6%b3%95%e7%84%b6%e4%b8%8a%e4%ba%ba%e3%81%ae%e5%91%bd%e6%97%a5/
LOCATION:無量寺　1階講堂\, 本町8番地4\, 久留米市\, 福岡県\, 8300044\, 日本
CATEGORIES:仏前行事
END:VEVENT
BEGIN:VEVENT
DTSTART;TZID=Asia/Tokyo:20181123T130000
DTEND;TZID=Asia/Tokyo:20181123T130000
DTSTAMP:20260422T032524
CREATED:20180804T032214Z
LAST-MODIFIED:20230131T030103Z
UID:1375-1542978000-1542978000@muryoji.net
SUMMARY:十夜法要(勤労感謝の日)
DESCRIPTION:浄土宗のお寺で秋を過ぎる頃から行われています。 \n戦国時代であった当時、戦乱の世を治める願いを伝える為に当時の天皇の許しを得てその当時貴族だけの法要だった十夜法要を民間法要として執り行うようになりました｡ \nそれからおよそ５００年全国の浄土宗 のお寺で行われるようになりました。
URL:https://muryoji.net/event/%e5%8d%81%e5%a4%9c%e6%b3%95%e8%a6%81%e5%8b%a4%e5%8a%b4%e6%84%9f%e8%ac%9d%e3%81%ae%e6%97%a5-2/
CATEGORIES:仏前行事
END:VEVENT
BEGIN:VEVENT
DTSTART;TZID=Asia/Tokyo:20180923T130000
DTEND;TZID=Asia/Tokyo:20180923T130000
DTSTAMP:20260422T032524
CREATED:20180804T031950Z
LAST-MODIFIED:20230131T030110Z
UID:1373-1537707600-1537707600@muryoji.net
SUMMARY:秋彼岸法要
DESCRIPTION:彼岸の日には今日ある自分を育んでくれた数多くの祖先の追善供養など仏事につとめ、皆で心から先祖のご恩に感謝いたしましょう。
URL:https://muryoji.net/event/%e7%a7%8b%e5%bd%bc%e5%b2%b8%e6%b3%95%e8%a6%81-2/
CATEGORIES:仏前行事
END:VEVENT
BEGIN:VEVENT
DTSTART;TZID=Asia/Tokyo:20180815T170000
DTEND;TZID=Asia/Tokyo:20180815T170000
DTSTAMP:20260422T032524
CREATED:20180804T032741Z
LAST-MODIFIED:20230131T030120Z
UID:1377-1534352400-1534352400@muryoji.net
SUMMARY:盂蘭盆法要13日と15日
DESCRIPTION:祖先の霊を我が家に迎え、冥福を祈ります｡ \n8月１３日と１５日１７：００から行われます。
URL:https://muryoji.net/event/%e7%9b%82%e8%98%ad%e7%9b%86%e6%b3%95%e8%a6%8113%e6%97%a5%e3%81%a815%e6%97%a5-2/
CATEGORIES:仏前行事
END:VEVENT
BEGIN:VEVENT
DTSTART;TZID=Asia/Tokyo:20180813T170000
DTEND;TZID=Asia/Tokyo:20180813T170000
DTSTAMP:20260422T032524
CREATED:20180804T031253Z
LAST-MODIFIED:20230131T030142Z
UID:1371-1534179600-1534179600@muryoji.net
SUMMARY:盂蘭盆法要13日と15日
DESCRIPTION:祖先の霊を我が家に迎え、冥福を祈ります｡ \n8月１３日と１５日１７：００から行われます。
URL:https://muryoji.net/event/%e7%9b%82%e8%98%ad%e7%9b%86%e6%b3%95%e8%a6%8113%e6%97%a5%e3%81%a815%e6%97%a5/
CATEGORIES:仏前行事
END:VEVENT
END:VCALENDAR